BEGIN:VCALENDAR
VERSION:2.0
PRODID:-//NADI Kg Kalai - ECPv6.15.13.1//NONSGML v1.0//EN
CALSCALE:GREGORIAN
METHOD:PUBLISH
X-WR-CALNAME:NADI Kg Kalai
X-ORIGINAL-URL:https://kgkalai.nadi.my
X-WR-CALDESC:Events for NADI Kg Kalai
REFRESH-INTERVAL;VALUE=DURATION:PT1H
X-Robots-Tag:noindex
X-PUBLISHED-TTL:PT1H
BEGIN:VTIMEZONE
TZID:UTC
BEGIN:STANDARD
TZOFFSETFROM:+0000
TZOFFSETTO:+0000
TZNAME:UTC
DTSTART:20240101T000000
END:STANDARD
END:VTIMEZONE
BEGIN:VEVENT
DTSTART;TZID=UTC:20250808T143000
DTEND;TZID=UTC:20250808T163000
DTSTAMP:20260426T030500
CREATED:20250802T000932Z
LAST-MODIFIED:20250802T000932Z
UID:3806-1754663400-1754670600@kgkalai.nadi.my
SUMMARY:LIVE CLASS TING 5 B.MELAYU
DESCRIPTION:
URL:https://kgkalai.nadi.my/event/live-class-ting-5-b-melayu/
END:VEVENT
BEGIN:VEVENT
DTSTART;TZID=UTC:20250808T163000
DTEND;TZID=UTC:20250808T173000
DTSTAMP:20260426T030500
CREATED:20250802T001024Z
LAST-MODIFIED:20250802T001024Z
UID:3808-1754670600-1754674200@kgkalai.nadi.my
SUMMARY:LIVE CLASS TING 5 B. INGGERIS TING 5
DESCRIPTION:
URL:https://kgkalai.nadi.my/event/live-class-ting-5-b-inggeris-ting-5/
END:VEVENT
END:VCALENDAR