BEGIN:VCALENDAR
VERSION:2.0
PRODID:-//NADI Kg Kalai - ECPv6.15.13.1//NONSGML v1.0//EN
CALSCALE:GREGORIAN
METHOD:PUBLISH
X-WR-CALNAME:NADI Kg Kalai
X-ORIGINAL-URL:https://kgkalai.nadi.my
X-WR-CALDESC:Events for NADI Kg Kalai
REFRESH-INTERVAL;VALUE=DURATION:PT1H
X-Robots-Tag:noindex
X-PUBLISHED-TTL:PT1H
BEGIN:VTIMEZONE
TZID:UTC
BEGIN:STANDARD
TZOFFSETFROM:+0000
TZOFFSETTO:+0000
TZNAME:UTC
DTSTART:20240101T000000
END:STANDARD
END:VTIMEZONE
BEGIN:VEVENT
DTSTART;TZID=UTC:20251117T090000
DTEND;TZID=UTC:20251117T173000
DTSTAMP:20260426T092352
CREATED:20251103T195237Z
LAST-MODIFIED:20251103T195237Z
UID:4091-1763370000-1763400600@kgkalai.nadi.my
SUMMARY:COHORT 7- USAHAWAN CILIK -PEMASARAN & OPERASI PERNIAGAAN
DESCRIPTION:
URL:https://kgkalai.nadi.my/event/cohort-7-usahawan-cilik-pemasaran-operasi-perniagaan/
END:VEVENT
BEGIN:VEVENT
DTSTART;TZID=UTC:20251117T153000
DTEND;TZID=UTC:20251117T163000
DTSTAMP:20260426T092352
CREATED:20251103T193228Z
LAST-MODIFIED:20251103T193228Z
UID:4067-1763393400-1763397000@kgkalai.nadi.my
SUMMARY:OPEN TUITION - TING 3 MATEMATIK
DESCRIPTION:
URL:https://kgkalai.nadi.my/event/open-tuition-ting-3-matematik/
END:VEVENT
END:VCALENDAR