BEGIN:VCALENDAR
VERSION:2.0
PRODID:-//NADI Kg Kalai - ECPv6.15.13.1//NONSGML v1.0//EN
CALSCALE:GREGORIAN
METHOD:PUBLISH
X-WR-CALNAME:NADI Kg Kalai
X-ORIGINAL-URL:https://kgkalai.nadi.my
X-WR-CALDESC:Events for NADI Kg Kalai
REFRESH-INTERVAL;VALUE=DURATION:PT1H
X-Robots-Tag:noindex
X-PUBLISHED-TTL:PT1H
BEGIN:VTIMEZONE
TZID:UTC
BEGIN:STANDARD
TZOFFSETFROM:+0000
TZOFFSETTO:+0000
TZNAME:UTC
DTSTART:20250101T000000
END:STANDARD
END:VTIMEZONE
BEGIN:VEVENT
DTSTART;TZID=UTC:20260124T100000
DTEND;TZID=UTC:20260124T113000
DTSTAMP:20260424T054911
CREATED:20260123T010658Z
LAST-MODIFIED:20260123T010658Z
UID:4304-1769248800-1769254200@kgkalai.nadi.my
SUMMARY:WEBINAR ATAS TALIAN : PELAN PERNIAGAAN MINI 2
DESCRIPTION:
URL:https://kgkalai.nadi.my/event/webinar-atas-talian-pelan-perniagaan-mini-2/
END:VEVENT
BEGIN:VEVENT
DTSTART;TZID=UTC:20260124T143000
DTEND;TZID=UTC:20260124T163000
DTSTAMP:20260424T054911
CREATED:20260123T010857Z
LAST-MODIFIED:20260123T010857Z
UID:4310-1769265000-1769272200@kgkalai.nadi.my
SUMMARY:WEBINAR BERKALA BAHASA INGGERIS EDISI 6
DESCRIPTION:
URL:https://kgkalai.nadi.my/event/webinar-berkala-bahasa-inggeris-edisi-6/
END:VEVENT
BEGIN:VEVENT
DTSTART;TZID=UTC:20260124T150000
DTEND;TZID=UTC:20260124T160000
DTSTAMP:20260424T054911
CREATED:20260123T010614Z
LAST-MODIFIED:20260123T010614Z
UID:4302-1769266800-1769270400@kgkalai.nadi.my
SUMMARY:KIS : ANAK & MEDIA SOSIAL : KENAPA UMUR 16 TAHUN ITU GARIS SELAMAT
DESCRIPTION:
URL:https://kgkalai.nadi.my/event/kis-anak-media-sosial-kenapa-umur-16-tahun-itu-garis-selamat/
END:VEVENT
END:VCALENDAR