BEGIN:VCALENDAR
VERSION:2.0
PRODID:-//NADI Kg Kalai - ECPv6.15.13.1//NONSGML v1.0//EN
CALSCALE:GREGORIAN
METHOD:PUBLISH
X-WR-CALNAME:NADI Kg Kalai
X-ORIGINAL-URL:https://kgkalai.nadi.my
X-WR-CALDESC:Events for NADI Kg Kalai
REFRESH-INTERVAL;VALUE=DURATION:PT1H
X-Robots-Tag:noindex
X-PUBLISHED-TTL:PT1H
BEGIN:VTIMEZONE
TZID:UTC
BEGIN:STANDARD
TZOFFSETFROM:+0000
TZOFFSETTO:+0000
TZNAME:UTC
DTSTART:20250101T000000
END:STANDARD
END:VTIMEZONE
BEGIN:VEVENT
DTSTART;TZID=UTC:20260129T150000
DTEND;TZID=UTC:20260129T163000
DTSTAMP:20260421T225846
CREATED:20260123T011253Z
LAST-MODIFIED:20260123T011253Z
UID:4316-1769698800-1769704200@kgkalai.nadi.my
SUMMARY:CYBERSECURITY : CARA MENANGANI ANCAMAN SERANGAN SIBER
DESCRIPTION:
URL:https://kgkalai.nadi.my/event/cybersecurity-cara-menangani-ancaman-serangan-siber/
END:VEVENT
BEGIN:VEVENT
DTSTART;TZID=UTC:20260129T153000
DTEND;TZID=UTC:20260129T173000
DTSTAMP:20260421T225846
CREATED:20260123T011014Z
LAST-MODIFIED:20260123T011014Z
UID:4314-1769700600-1769707800@kgkalai.nadi.my
SUMMARY:OPEN TUITION TING 1-5 SAINS
DESCRIPTION:
URL:https://kgkalai.nadi.my/event/open-tuition-ting-1-5-sains/
END:VEVENT
END:VCALENDAR