BEGIN:VCALENDAR
VERSION:2.0
PRODID:-//NADI Kg Kalai - ECPv6.15.13.1//NONSGML v1.0//EN
CALSCALE:GREGORIAN
METHOD:PUBLISH
X-WR-CALNAME:NADI Kg Kalai
X-ORIGINAL-URL:https://kgkalai.nadi.my
X-WR-CALDESC:Events for NADI Kg Kalai
REFRESH-INTERVAL;VALUE=DURATION:PT1H
X-Robots-Tag:noindex
X-PUBLISHED-TTL:PT1H
BEGIN:VTIMEZONE
TZID:UTC
BEGIN:STANDARD
TZOFFSETFROM:+0000
TZOFFSETTO:+0000
TZNAME:UTC
DTSTART:20250101T000000
END:STANDARD
END:VTIMEZONE
BEGIN:VEVENT
DTSTART;TZID=UTC:20260131T100000
DTEND;TZID=UTC:20260131T113000
DTSTAMP:20260422T090904
CREATED:20260123T010820Z
LAST-MODIFIED:20260123T010820Z
UID:4308-1769853600-1769859000@kgkalai.nadi.my
SUMMARY:KIDVENTURES : WEBINAR ATAS TALIAN : BIJAK KEWANGAN
DESCRIPTION:
URL:https://kgkalai.nadi.my/event/kidventures-webinar-atas-talian-bijak-kewangan/
END:VEVENT
END:VCALENDAR