BEGIN:VCALENDAR
VERSION:2.0
PRODID:-//NADI Kg Kalai - ECPv6.15.13.1//NONSGML v1.0//EN
CALSCALE:GREGORIAN
METHOD:PUBLISH
X-ORIGINAL-URL:https://kgkalai.nadi.my
X-WR-CALDESC:Events for NADI Kg Kalai
REFRESH-INTERVAL;VALUE=DURATION:PT1H
X-Robots-Tag:noindex
X-PUBLISHED-TTL:PT1H
BEGIN:VTIMEZONE
TZID:Asia/Kuala_Lumpur
BEGIN:STANDARD
TZOFFSETFROM:+0800
TZOFFSETTO:+0800
TZNAME:+08
DTSTART:20250101T000000
END:STANDARD
END:VTIMEZONE
BEGIN:VEVENT
DTSTART;TZID=Asia/Kuala_Lumpur:20260417T080000
DTEND;TZID=Asia/Kuala_Lumpur:20260417T180000
DTSTAMP:20260420T052621
CREATED:20260415T021533Z
LAST-MODIFIED:20260415T021533Z
UID:4697-1776412800-1776448800@kgkalai.nadi.my
SUMMARY:E-SUKAN : TEAMWORK & PERANAN DALAM PASUKAN E-SUKAN
DESCRIPTION:
URL:https://kgkalai.nadi.my/event/e-sukan-teamwork-peranan-dalam-pasukan-e-sukan/
END:VEVENT
BEGIN:VEVENT
DTSTART;TZID=Asia/Kuala_Lumpur:20260417T140000
DTEND;TZID=Asia/Kuala_Lumpur:20260417T153000
DTSTAMP:20260420T052621
CREATED:20260401T014751Z
LAST-MODIFIED:20260401T015114Z
UID:4651-1776434400-1776439800@kgkalai.nadi.my
SUMMARY:GUIDANCE TUITION TING 5 : B.MELAYU
DESCRIPTION:
URL:https://kgkalai.nadi.my/event/guidance-tuition-ting-5-b-melayu-2/
END:VEVENT
BEGIN:VEVENT
DTSTART;TZID=Asia/Kuala_Lumpur:20260417T160000
DTEND;TZID=Asia/Kuala_Lumpur:20260417T170000
DTSTAMP:20260420T052621
CREATED:20260401T014820Z
LAST-MODIFIED:20260401T014943Z
UID:4653-1776441600-1776445200@kgkalai.nadi.my
SUMMARY:GUIDANCE TUITION TING 5 : B.INGGERIS
DESCRIPTION:
URL:https://kgkalai.nadi.my/event/guidance-tuition-ting-5-b-inggeris-2/
END:VEVENT
END:VCALENDAR