BEGIN:VCALENDAR
VERSION:2.0
PRODID:-//NADI Kg Kalai - ECPv6.15.13.1//NONSGML v1.0//EN
CALSCALE:GREGORIAN
METHOD:PUBLISH
X-ORIGINAL-URL:https://kgkalai.nadi.my
X-WR-CALDESC:Events for NADI Kg Kalai
REFRESH-INTERVAL;VALUE=DURATION:PT1H
X-Robots-Tag:noindex
X-PUBLISHED-TTL:PT1H
BEGIN:VTIMEZONE
TZID:Asia/Kuala_Lumpur
BEGIN:STANDARD
TZOFFSETFROM:+0800
TZOFFSETTO:+0800
TZNAME:+08
DTSTART:20250101T000000
END:STANDARD
END:VTIMEZONE
BEGIN:VTIMEZONE
TZID:UTC
BEGIN:STANDARD
TZOFFSETFROM:+0000
TZOFFSETTO:+0000
TZNAME:UTC
DTSTART:20250101T000000
END:STANDARD
END:VTIMEZONE
BEGIN:VEVENT
DTSTART;TZID=Asia/Kuala_Lumpur:20260416T153000
DTEND;TZID=Asia/Kuala_Lumpur:20260416T163000
DTSTAMP:20260420T060741
CREATED:20260401T014408Z
LAST-MODIFIED:20260401T014408Z
UID:4640-1776353400-1776357000@kgkalai.nadi.my
SUMMARY:OPEN TUITION TINGKATAN 1-6 : SAINS PENGAJIAN AM
DESCRIPTION:
URL:https://kgkalai.nadi.my/event/open-tuition-tingkatan-1-6-sains-pengajian-am/
END:VEVENT
BEGIN:VEVENT
DTSTART;TZID=Asia/Kuala_Lumpur:20260413T153000
DTEND;TZID=Asia/Kuala_Lumpur:20260413T163000
DTSTAMP:20260420T060741
CREATED:20260401T014107Z
LAST-MODIFIED:20260401T014107Z
UID:4638-1776094200-1776097800@kgkalai.nadi.my
SUMMARY:OPEN TUITION TINGKATAN 1-6 : SEJARAH
DESCRIPTION:
URL:https://kgkalai.nadi.my/event/open-tuition-tingkatan-1-6-sejarah/
END:VEVENT
BEGIN:VEVENT
DTSTART;TZID=Asia/Kuala_Lumpur:20260409T153000
DTEND;TZID=Asia/Kuala_Lumpur:20260409T163000
DTSTAMP:20260420T060741
CREATED:20260401T014655Z
LAST-MODIFIED:20260401T014655Z
UID:4649-1775748600-1775752200@kgkalai.nadi.my
SUMMARY:GUIDANCE TUITION TING 4 : B.INGGERIS
DESCRIPTION:
URL:https://kgkalai.nadi.my/event/guidance-tuition-ting-4-b-inggeris-2/
END:VEVENT
BEGIN:VEVENT
DTSTART;TZID=Asia/Kuala_Lumpur:20260409T150000
DTEND;TZID=Asia/Kuala_Lumpur:20260409T163000
DTSTAMP:20260420T060741
CREATED:20260401T013817Z
LAST-MODIFIED:20260401T013817Z
UID:4630-1775746800-1775752200@kgkalai.nadi.my
SUMMARY:CARA MENJAGA KESELAMATAN CCTV DAN WIFI RUMAH DARI DIGODAM
DESCRIPTION:
URL:https://kgkalai.nadi.my/event/cara-menjaga-keselamatan-cctv-dan-wifi-rumah-dari-digodam/
END:VEVENT
BEGIN:VEVENT
DTSTART;TZID=Asia/Kuala_Lumpur:20260409T033000
DTEND;TZID=Asia/Kuala_Lumpur:20260409T163000
DTSTAMP:20260420T060741
CREATED:20260401T014043Z
LAST-MODIFIED:20260401T014043Z
UID:4636-1775705400-1775752200@kgkalai.nadi.my
SUMMARY:OPEN TUITION TINGKATAN 1-6 : B.MELAYU
DESCRIPTION:
URL:https://kgkalai.nadi.my/event/open-tuition-tingkatan-1-6-b-melayu/
END:VEVENT
BEGIN:VEVENT
DTSTART;TZID=Asia/Kuala_Lumpur:20260407T153000
DTEND;TZID=Asia/Kuala_Lumpur:20260407T163000
DTSTAMP:20260420T060741
CREATED:20260401T014624Z
LAST-MODIFIED:20260401T014624Z
UID:4647-1775575800-1775579400@kgkalai.nadi.my
SUMMARY:GUIDANCE TUITION TING 4 : SEJARAH
DESCRIPTION:
URL:https://kgkalai.nadi.my/event/guidance-tuition-ting-4-sejarah-2/
END:VEVENT
BEGIN:VEVENT
DTSTART;TZID=Asia/Kuala_Lumpur:20260407T153000
DTEND;TZID=Asia/Kuala_Lumpur:20260407T163000
DTSTAMP:20260420T060741
CREATED:20260401T014016Z
LAST-MODIFIED:20260401T014016Z
UID:4634-1775575800-1775579400@kgkalai.nadi.my
SUMMARY:OPEN TUITION TINGKATAN 1-6 : B.INGGERIS
DESCRIPTION:
URL:https://kgkalai.nadi.my/event/open-tuition-tingkatan-1-6-b-inggeris/
END:VEVENT
BEGIN:VEVENT
DTSTART;TZID=Asia/Kuala_Lumpur:20260406T153000
DTEND;TZID=Asia/Kuala_Lumpur:20260406T163000
DTSTAMP:20260420T060741
CREATED:20260401T014601Z
LAST-MODIFIED:20260401T014601Z
UID:4645-1775489400-1775493000@kgkalai.nadi.my
SUMMARY:GUIDANCE TUITION TING 4 : B.MELAYU
DESCRIPTION:
URL:https://kgkalai.nadi.my/event/guidance-tuition-ting-4-b-melayu-2/
END:VEVENT
BEGIN:VEVENT
DTSTART;TZID=Asia/Kuala_Lumpur:20260405T153000
DTEND;TZID=Asia/Kuala_Lumpur:20260405T163000
DTSTAMP:20260420T060741
CREATED:20260401T014536Z
LAST-MODIFIED:20260401T014536Z
UID:4643-1775403000-1775406600@kgkalai.nadi.my
SUMMARY:GUIDANCE TUITION TING 4 : MATEMATIK
DESCRIPTION:
URL:https://kgkalai.nadi.my/event/guidance-tuition-ting-4-matematik-2/
END:VEVENT
BEGIN:VEVENT
DTSTART;TZID=Asia/Kuala_Lumpur:20260403T033000
DTEND;TZID=Asia/Kuala_Lumpur:20260403T163000
DTSTAMP:20260420T060741
CREATED:20260401T013947Z
LAST-MODIFIED:20260401T013947Z
UID:4632-1775187000-1775233800@kgkalai.nadi.my
SUMMARY:OPEN TUITION TINGKATAN 1-6 : MATEMATIK
DESCRIPTION:
URL:https://kgkalai.nadi.my/event/open-tuition-tingkatan-1-6-matematik/
END:VEVENT
BEGIN:VEVENT
DTSTART;TZID=Asia/Kuala_Lumpur:20260401T150000
DTEND;TZID=Asia/Kuala_Lumpur:20260401T160000
DTSTAMP:20260420T060741
CREATED:20260401T013717Z
LAST-MODIFIED:20260401T013717Z
UID:4628-1775055600-1775059200@kgkalai.nadi.my
SUMMARY:PRIVASI DATA : DATA ANDA\,NYAWA ANDA-JANGAN BIAR DICURI
DESCRIPTION:
URL:https://kgkalai.nadi.my/event/privasi-data-data-andanyawa-anda-jangan-biar-dicuri/
END:VEVENT
BEGIN:VEVENT
DTSTART;TZID=Asia/Kuala_Lumpur:20260314T100000
DTEND;TZID=Asia/Kuala_Lumpur:20260314T110000
DTSTAMP:20260420T060741
CREATED:20260304T030625Z
LAST-MODIFIED:20260304T030625Z
UID:4499-1773482400-1773486000@kgkalai.nadi.my
SUMMARY:LIVE CLASS: TINGKATAN 5 MATEMATIK
DESCRIPTION:
URL:https://kgkalai.nadi.my/event/live-class-tingkatan-5-matematik/
END:VEVENT
BEGIN:VEVENT
DTSTART;TZID=Asia/Kuala_Lumpur:20260314T090000
DTEND;TZID=Asia/Kuala_Lumpur:20260314T100000
DTSTAMP:20260420T060741
CREATED:20260304T030533Z
LAST-MODIFIED:20260304T030533Z
UID:4497-1773478800-1773482400@kgkalai.nadi.my
SUMMARY:LIVE CLASS: TINGKATAN 5 SEJARAH
DESCRIPTION:
URL:https://kgkalai.nadi.my/event/live-class-tingkatan-5-sejarah/
END:VEVENT
BEGIN:VEVENT
DTSTART;TZID=Asia/Kuala_Lumpur:20260313T100000
DTEND;TZID=Asia/Kuala_Lumpur:20260313T110000
DTSTAMP:20260420T060741
CREATED:20260304T030804Z
LAST-MODIFIED:20260304T030804Z
UID:4503-1773396000-1773399600@kgkalai.nadi.my
SUMMARY:LIVE CLASS: TINGKATAN 5 B.INGGERIS
DESCRIPTION:
URL:https://kgkalai.nadi.my/event/live-class-tingkatan-5-b-inggeris/
END:VEVENT
BEGIN:VEVENT
DTSTART;TZID=Asia/Kuala_Lumpur:20260313T090000
DTEND;TZID=Asia/Kuala_Lumpur:20260313T100000
DTSTAMP:20260420T060741
CREATED:20260304T030730Z
LAST-MODIFIED:20260304T030730Z
UID:4501-1773392400-1773396000@kgkalai.nadi.my
SUMMARY:LIVE CLASS: TINGKATAN 5 B.MELAYU
DESCRIPTION:
URL:https://kgkalai.nadi.my/event/live-class-tingkatan-5-b-melayu/
END:VEVENT
BEGIN:VEVENT
DTSTART;TZID=Asia/Kuala_Lumpur:20260312T143000
DTEND;TZID=Asia/Kuala_Lumpur:20260312T153000
DTSTAMP:20260420T060741
CREATED:20260304T031236Z
LAST-MODIFIED:20260304T031236Z
UID:4513-1773325800-1773329400@kgkalai.nadi.my
SUMMARY:OPEN TUITION : TING 1- 5 SAINS
DESCRIPTION:
URL:https://kgkalai.nadi.my/event/open-tuition-ting-1-5-sains-2/
END:VEVENT
BEGIN:VEVENT
DTSTART;TZID=Asia/Kuala_Lumpur:20260309T143000
DTEND;TZID=Asia/Kuala_Lumpur:20260309T153000
DTSTAMP:20260420T060741
CREATED:20260304T031210Z
LAST-MODIFIED:20260304T031210Z
UID:4511-1773066600-1773070200@kgkalai.nadi.my
SUMMARY:OPEN TUITION : TING 1- 5 SEJARAH
DESCRIPTION:
URL:https://kgkalai.nadi.my/event/open-tuition-ting-1-5-sejarah-2/
END:VEVENT
BEGIN:VEVENT
DTSTART;TZID=Asia/Kuala_Lumpur:20260306T023000
DTEND;TZID=Asia/Kuala_Lumpur:20260306T153000
DTSTAMP:20260420T060741
CREATED:20260304T030409Z
LAST-MODIFIED:20260304T030409Z
UID:4495-1772764200-1772811000@kgkalai.nadi.my
SUMMARY:LIVE CLASS: TINGKATAN 4 B.INGGERIS
DESCRIPTION:
URL:https://kgkalai.nadi.my/event/live-class-tingkatan-4-b-inggeris/
END:VEVENT
BEGIN:VEVENT
DTSTART;TZID=Asia/Kuala_Lumpur:20260305T143000
DTEND;TZID=Asia/Kuala_Lumpur:20260305T153000
DTSTAMP:20260420T060741
CREATED:20260304T031141Z
LAST-MODIFIED:20260304T031141Z
UID:4509-1772721000-1772724600@kgkalai.nadi.my
SUMMARY:OPEN TUITION : TING 1- 5 B.MELAYU
DESCRIPTION:
URL:https://kgkalai.nadi.my/event/open-tuition-ting-1-5-b-melayu/
END:VEVENT
BEGIN:VEVENT
DTSTART;TZID=Asia/Kuala_Lumpur:20260305T143000
DTEND;TZID=Asia/Kuala_Lumpur:20260305T153000
DTSTAMP:20260420T060741
CREATED:20260304T030335Z
LAST-MODIFIED:20260304T030335Z
UID:4493-1772721000-1772724600@kgkalai.nadi.my
SUMMARY:LIVE CLASS: TINGKATAN 4 SEJARAH
DESCRIPTION:
URL:https://kgkalai.nadi.my/event/live-class-tingkatan-4-sejarah/
END:VEVENT
BEGIN:VEVENT
DTSTART;TZID=Asia/Kuala_Lumpur:20260305T140000
DTEND;TZID=Asia/Kuala_Lumpur:20260305T153000
DTSTAMP:20260420T060741
CREATED:20260304T030109Z
LAST-MODIFIED:20260304T030109Z
UID:4487-1772719200-1772724600@kgkalai.nadi.my
SUMMARY:CYBERSECURITY : BAHAYA SERANGAN MALWARE
DESCRIPTION:
URL:https://kgkalai.nadi.my/event/cybersecurity-bahaya-serangan-malware/
END:VEVENT
BEGIN:VEVENT
DTSTART;TZID=Asia/Kuala_Lumpur:20260305T113000
DTEND;TZID=Asia/Kuala_Lumpur:20260305T123000
DTSTAMP:20260420T060741
CREATED:20260304T030026Z
LAST-MODIFIED:20260304T030026Z
UID:4485-1772710200-1772713800@kgkalai.nadi.my
SUMMARY:MAHIR JAHIT : JOM BERGAYA RAYA : FASHION STYLING
DESCRIPTION:
URL:https://kgkalai.nadi.my/event/mahir-jahit-jom-bergaya-raya-fashion-styling/
END:VEVENT
BEGIN:VEVENT
DTSTART;TZID=Asia/Kuala_Lumpur:20260303T143000
DTEND;TZID=Asia/Kuala_Lumpur:20260303T153000
DTSTAMP:20260420T060741
CREATED:20260304T031052Z
LAST-MODIFIED:20260304T031052Z
UID:4507-1772548200-1772551800@kgkalai.nadi.my
SUMMARY:OPEN TUITION : TING 1- 5 B.INGGERIS
DESCRIPTION:
URL:https://kgkalai.nadi.my/event/open-tuition-ting-1-5-b-inggeris/
END:VEVENT
BEGIN:VEVENT
DTSTART;TZID=Asia/Kuala_Lumpur:20260303T143000
DTEND;TZID=Asia/Kuala_Lumpur:20260303T153000
DTSTAMP:20260420T060741
CREATED:20260304T030314Z
LAST-MODIFIED:20260304T030314Z
UID:4491-1772548200-1772551800@kgkalai.nadi.my
SUMMARY:LIVE CLASS: TINGKATAN 4 BAHASA MELAYU
DESCRIPTION:
URL:https://kgkalai.nadi.my/event/live-class-tingkatan-4-bahasa-melayu/
END:VEVENT
BEGIN:VEVENT
DTSTART;TZID=Asia/Kuala_Lumpur:20260303T093000
DTEND;TZID=Asia/Kuala_Lumpur:20260303T113000
DTSTAMP:20260420T060741
CREATED:20260304T025915Z
LAST-MODIFIED:20260304T025915Z
UID:4483-1772530200-1772537400@kgkalai.nadi.my
SUMMARY:MAHIR FOTO : STUDIO LIGHTING DALAM FOTOGRAFI
DESCRIPTION:
URL:https://kgkalai.nadi.my/event/mahir-foto-studio-lighting-dalam-fotografi/
END:VEVENT
BEGIN:VEVENT
DTSTART;TZID=Asia/Kuala_Lumpur:20260302T143000
DTEND;TZID=Asia/Kuala_Lumpur:20260302T153000
DTSTAMP:20260420T060741
CREATED:20260304T031018Z
LAST-MODIFIED:20260304T031018Z
UID:4505-1772461800-1772465400@kgkalai.nadi.my
SUMMARY:OPEN TUITION : TING 1- 5 MATEMATIK
DESCRIPTION:
URL:https://kgkalai.nadi.my/event/open-tuition-ting-1-5-matematik/
END:VEVENT
BEGIN:VEVENT
DTSTART;TZID=Asia/Kuala_Lumpur:20260302T143000
DTEND;TZID=Asia/Kuala_Lumpur:20260302T153000
DTSTAMP:20260420T060741
CREATED:20260304T030245Z
LAST-MODIFIED:20260304T030245Z
UID:4489-1772461800-1772465400@kgkalai.nadi.my
SUMMARY:LIVE CLASS: TINGKATAN 4 MATEMATIK
DESCRIPTION:
URL:https://kgkalai.nadi.my/event/live-class-tingkatan-4-matematik/
END:VEVENT
BEGIN:VEVENT
DTSTART;TZID=UTC:20260227T153000
DTEND;TZID=UTC:20260227T163000
DTSTAMP:20260420T060741
CREATED:20260202T203935Z
LAST-MODIFIED:20260202T203935Z
UID:4401-1772206200-1772209800@kgkalai.nadi.my
SUMMARY:OPEN TUITION : BAHASA MELAYU TING 1-5
DESCRIPTION:
URL:https://kgkalai.nadi.my/event/open-tuition-bahasa-melayu-ting-1-5-4/
END:VEVENT
BEGIN:VEVENT
DTSTART;TZID=UTC:20260226T153000
DTEND;TZID=UTC:20260226T163000
DTSTAMP:20260420T060741
CREATED:20260202T204346Z
LAST-MODIFIED:20260202T204346Z
UID:4405-1772119800-1772123400@kgkalai.nadi.my
SUMMARY:OPEN TUITION : SAINS TING 1-5
DESCRIPTION:
URL:https://kgkalai.nadi.my/event/open-tuition-sains-ting-1-5-6/
END:VEVENT
BEGIN:VEVENT
DTSTART;TZID=UTC:20260224T153000
DTEND;TZID=UTC:20260224T163000
DTSTAMP:20260420T060741
CREATED:20260202T203823Z
LAST-MODIFIED:20260202T203823Z
UID:4398-1771947000-1771950600@kgkalai.nadi.my
SUMMARY:OPEN TUITION : BAHASA INGGERIS TING 1-5
DESCRIPTION:
URL:https://kgkalai.nadi.my/event/open-tuition-bahasa-inggeris-ting-1-5-2/
END:VEVENT
END:VCALENDAR